BEGIN:VCALENDAR
VERSION:2.0
PRODID:-//www.turningpointinc.org//NONSGML kigkonsult.se iCalcreator 2.30.1
 0//
CALSCALE:GREGORIAN
METHOD:PUBLISH
UID:f4e47623-c899-4a9e-8ebd-9166ab19909d
X-WR-CALDESC:
X-WR-RELCALID:6a27b5b0344a508d5736cd8ee17c6128
X-WR-TIMEZONE:America/New_York
BEGIN:VTIMEZONE
TZID:America/New_York
BEGIN:STANDARD
TZNAME:EST
DTSTART:20191103T020000
TZOFFSETFROM:-0400
TZOFFSETTO:-0500
RDATE:20201101T020000
RDATE:20211107T020000
END:STANDARD
BEGIN:DAYLIGHT
TZNAME:EDT
DTSTART:20200308T020000
TZOFFSETFROM:-0500
TZOFFSETTO:-0400
RDATE:20210314T020000
END:DAYLIGHT
END:VTIMEZONE
BEGIN:VEVENT
UID:01c262c3-e82d-4def-9070-b5f5b461cfd0
DTSTAMP:20260423T220547Z
DESCRIPTION:
DTSTART;TZID=America/New_York:20200901T080000
DTEND;TZID=America/New_York:20200901T090000
LOCATION:
SUMMARY:BOD Exec and Finance Committee
END:VEVENT
END:VCALENDAR
