BEGIN:VCALENDAR
VERSION:2.0
PRODID:-//www.turningpointinc.org//NONSGML kigkonsult.se iCalcreator 2.30.1
 0//
CALSCALE:GREGORIAN
METHOD:PUBLISH
UID:bda7cbe9-a3a8-4eba-8f49-6a8b666b3a45
X-WR-CALDESC:
X-WR-RELCALID:0d919ab3bb900a70cad094599ca1a50e
X-WR-TIMEZONE:America/New_York
BEGIN:VTIMEZONE
TZID:America/New_York
BEGIN:STANDARD
TZNAME:EST
DTSTART:20191103T020000
TZOFFSETFROM:-0400
TZOFFSETTO:-0500
RDATE:20201101T020000
RDATE:20211107T020000
END:STANDARD
BEGIN:DAYLIGHT
TZNAME:EDT
DTSTART:20200308T020000
TZOFFSETFROM:-0500
TZOFFSETTO:-0400
RDATE:20210314T020000
RDATE:20220313T020000
END:DAYLIGHT
END:VTIMEZONE
BEGIN:VEVENT
UID:577c9e7c-01e9-4f30-a929-9d014f06b11c
DTSTAMP:20260423T214203Z
DESCRIPTION:
DTSTART;TZID=America/New_York:20200911T080000
DTEND;TZID=America/New_York:20200911T093000
LOCATION:TPI Conference Room
SUMMARY:Board Meeting
END:VEVENT
END:VCALENDAR
