BEGIN:VCALENDAR
VERSION:2.0
PRODID:-//www.turningpointinc.org//NONSGML kigkonsult.se iCalcreator 2.30.1
 0//
CALSCALE:GREGORIAN
METHOD:PUBLISH
UID:963684dd-ff3a-417d-991e-b05cfc9e0ee0
X-WR-CALDESC:
X-WR-RELCALID:72ee1e2ab95ba42a610dfd088761d28d
X-WR-TIMEZONE:America/New_York
BEGIN:VTIMEZONE
TZID:America/New_York
BEGIN:STANDARD
TZNAME:EST
DTSTART:20191103T020000
TZOFFSETFROM:-0400
TZOFFSETTO:-0500
RDATE:20201101T020000
RDATE:20211107T020000
END:STANDARD
BEGIN:DAYLIGHT
TZNAME:EDT
DTSTART:20200308T020000
TZOFFSETFROM:-0500
TZOFFSETTO:-0400
RDATE:20210314T020000
RDATE:20220313T020000
END:DAYLIGHT
END:VTIMEZONE
BEGIN:VEVENT
UID:ba8acd8f-22b3-4c98-8ea6-576c3b2510f7
DTSTAMP:20260423T215353Z
DESCRIPTION:
DTSTART;TZID=America/New_York:20200916T080000
DTEND;TZID=America/New_York:20200916T090000
LOCATION:
SUMMARY:BOD Finance Committee
END:VEVENT
END:VCALENDAR
