BEGIN:VCALENDAR
VERSION:2.0
PRODID:-//www.turningpointinc.org//NONSGML kigkonsult.se iCalcreator 2.30.1
 0//
CALSCALE:GREGORIAN
METHOD:PUBLISH
UID:ccd8f039-f4da-425c-bb0a-3522edc309e8
X-WR-CALDESC:
X-WR-RELCALID:9ef973b2bccf2c5d2c7d7a24ab8fc9ca
X-WR-TIMEZONE:America/New_York
BEGIN:VTIMEZONE
TZID:America/New_York
BEGIN:STANDARD
TZNAME:EST
DTSTART:20201101T020000
TZOFFSETFROM:-0400
TZOFFSETTO:-0500
RDATE:20211107T020000
END:STANDARD
BEGIN:DAYLIGHT
TZNAME:EDT
DTSTART:20200308T020000
TZOFFSETFROM:-0500
TZOFFSETTO:-0400
RDATE:20210314T020000
RDATE:20220313T020000
END:DAYLIGHT
END:VTIMEZONE
BEGIN:VEVENT
UID:1825d684-72b2-44b8-99bf-96fab5efd06a
DTSTAMP:20260423T115733Z
DESCRIPTION:
DTSTART;TZID=America/New_York:20201104T080000
DTEND;TZID=America/New_York:20201104T090000
LOCATION:
SUMMARY:BOD Finance Committee
END:VEVENT
END:VCALENDAR
