BEGIN:VCALENDAR
VERSION:2.0
PRODID:-//www.turningpointinc.org//NONSGML kigkonsult.se iCalcreator 2.30.1
 0//
CALSCALE:GREGORIAN
METHOD:PUBLISH
UID:1c839030-c175-47dd-a5ed-4603ca278c43
X-WR-CALDESC:
X-WR-RELCALID:13bcaddd850e6cf6269206a62946c423
X-WR-TIMEZONE:America/New_York
BEGIN:VTIMEZONE
TZID:America/New_York
BEGIN:STANDARD
TZNAME:EST
DTSTART:20201101T020000
TZOFFSETFROM:-0400
TZOFFSETTO:-0500
RDATE:20211107T020000
END:STANDARD
BEGIN:DAYLIGHT
TZNAME:EDT
DTSTART:20200308T020000
TZOFFSETFROM:-0500
TZOFFSETTO:-0400
RDATE:20210314T020000
RDATE:20220313T020000
END:DAYLIGHT
END:VTIMEZONE
BEGIN:VEVENT
UID:8c9ee5d3-deaf-4bd1-8181-e25879377024
DTSTAMP:20260423T113006Z
DESCRIPTION:
DTSTART;TZID=America/New_York:20201106T080000
DTEND;TZID=America/New_York:20201106T093000
LOCATION:TPI Conference Room
SUMMARY:Board Meeting
END:VEVENT
END:VCALENDAR
