BEGIN:VCALENDAR
VERSION:2.0
PRODID:-//www.turningpointinc.org//NONSGML kigkonsult.se iCalcreator 2.30.1
 0//
CALSCALE:GREGORIAN
METHOD:PUBLISH
UID:5a61b0ac-ba62-4006-a2ca-ab40a82defc7
X-WR-CALDESC:
X-WR-RELCALID:36644f64856fdc111c2b014ef8dc95e2
X-WR-TIMEZONE:America/New_York
BEGIN:VTIMEZONE
TZID:America/New_York
BEGIN:STANDARD
TZNAME:EST
DTSTART:20201101T020000
TZOFFSETFROM:-0400
TZOFFSETTO:-0500
RDATE:20211107T020000
END:STANDARD
BEGIN:DAYLIGHT
TZNAME:EDT
DTSTART:20200308T020000
TZOFFSETFROM:-0500
TZOFFSETTO:-0400
RDATE:20210314T020000
RDATE:20220313T020000
END:DAYLIGHT
END:VTIMEZONE
BEGIN:VEVENT
UID:70563e52-8776-4c2d-adc2-a9ff26a7e349
DTSTAMP:20260420T185643Z
DESCRIPTION:
DTSTART;TZID=America/New_York:20210212T080000
DTEND;TZID=America/New_York:20210212T093000
LOCATION:TPI Conference Room
SUMMARY:Board Meeting
END:VEVENT
END:VCALENDAR
