BEGIN:VCALENDAR
VERSION:2.0
PRODID:-//www.turningpointinc.org//NONSGML kigkonsult.se iCalcreator 2.30.1
 0//
CALSCALE:GREGORIAN
METHOD:PUBLISH
UID:75fd5ec7-bcb7-4d13-99b8-90a6682bc282
X-WR-CALDESC:
X-WR-RELCALID:15d38062a93acca538ce70a3be3da983
X-WR-TIMEZONE:America/New_York
BEGIN:VTIMEZONE
TZID:America/New_York
BEGIN:STANDARD
TZNAME:EST
DTSTART:20201101T020000
TZOFFSETFROM:-0400
TZOFFSETTO:-0500
RDATE:20211107T020000
END:STANDARD
BEGIN:DAYLIGHT
TZNAME:EDT
DTSTART:20210314T020000
TZOFFSETFROM:-0500
TZOFFSETTO:-0400
RDATE:20220313T020000
END:DAYLIGHT
END:VTIMEZONE
BEGIN:VEVENT
UID:0a9e6d99-3299-48a8-ab80-cf8d5cf644e2
DTSTAMP:20260420T140833Z
DESCRIPTION:
DTSTART;TZID=America/New_York:20210312T080000
DTEND;TZID=America/New_York:20210312T093000
LOCATION:TPI Conference Room
SUMMARY:Board Meeting
END:VEVENT
END:VCALENDAR
