BEGIN:VCALENDAR
VERSION:2.0
PRODID:-//www.turningpointinc.org//NONSGML kigkonsult.se iCalcreator 2.30.1
 0//
CALSCALE:GREGORIAN
METHOD:PUBLISH
UID:89d16b28-ec90-4829-83cb-aca4fe116aee
X-WR-CALDESC:
X-WR-RELCALID:169b4028e829fcac6fa02765c8c176ef
X-WR-TIMEZONE:America/New_York
BEGIN:VTIMEZONE
TZID:America/New_York
BEGIN:STANDARD
TZNAME:EST
DTSTART:20201101T020000
TZOFFSETFROM:-0400
TZOFFSETTO:-0500
RDATE:20211107T020000
END:STANDARD
BEGIN:DAYLIGHT
TZNAME:EDT
DTSTART:20210314T020000
TZOFFSETFROM:-0500
TZOFFSETTO:-0400
RDATE:20220313T020000
END:DAYLIGHT
END:VTIMEZONE
BEGIN:VEVENT
UID:cf83e821-4b4f-46d5-873f-df1c1c15f994
DTSTAMP:20260420T092908Z
DESCRIPTION:
DTSTART;TZID=America/New_York:20210409T080000
DTEND;TZID=America/New_York:20210409T093000
LOCATION:TPI Conference Room
SUMMARY:Board Meeting
END:VEVENT
END:VCALENDAR
