BEGIN:VCALENDAR
VERSION:2.0
PRODID:-//www.turningpointinc.org//NONSGML kigkonsult.se iCalcreator 2.30.1
 0//
CALSCALE:GREGORIAN
METHOD:PUBLISH
UID:cbbe7ccd-c172-4ce9-803f-76c5f1c4cbf5
X-WR-CALDESC:
X-WR-RELCALID:82cde099b88e0ac136b04a6f6a30b8a4
X-WR-TIMEZONE:America/New_York
BEGIN:VTIMEZONE
TZID:America/New_York
BEGIN:STANDARD
TZNAME:EST
DTSTART:20201101T020000
TZOFFSETFROM:-0400
TZOFFSETTO:-0500
RDATE:20211107T020000
RDATE:20221106T020000
END:STANDARD
BEGIN:DAYLIGHT
TZNAME:EDT
DTSTART:20210314T020000
TZOFFSETFROM:-0500
TZOFFSETTO:-0400
RDATE:20220313T020000
END:DAYLIGHT
END:VTIMEZONE
BEGIN:VEVENT
UID:fe43a5ac-31e2-4524-8010-588bfde11ced
DTSTAMP:20260420T013435Z
DESCRIPTION:
DTSTART;TZID=America/New_York:20210611T080000
DTEND;TZID=America/New_York:20210611T093000
LOCATION:TPI Conference Room
SUMMARY:Board Meeting/Annual Meeting
END:VEVENT
END:VCALENDAR
